Workbook

Sheet 3D панели сжатый прайс
A6: Прайс-лист на 3D панели шириной 2,5м
A7: дата | B7: 03 мая 2023г.
A8: №п/п | B8: Размер панели яч.50*200 | C8: Ø3мм | E8: Ø3,8мм | G8: Ø4мм | I8: Ø4,8мм | K8: Ø5мм | M8: Ø6мм
C9: уд.вес 1шт, кг | D9: цена 1 шт, руб | E9: уд.вес 1шт, кг | F9: цена 1 шт, руб | G9: уд.вес 1шт, кг | H9: цена 1 шт, руб | I9: уд.вес 1шт, кг | J9: цена 1 шт, руб | K9: уд.вес 1шт, кг | L9: цена 1 шт, руб | M9: уд.вес 1шт, кг | N9: цена 1 шт, руб
A10: 1 | B10: 1030-2510 (2) | C10: 4.445 | D10: =[1]Прайс!C4 -> 937.00789 | E10: 7.211 | F10: =[1]Прайс!D4 -> 1301.0967 | G10: 7.995 | H10: =[1]Прайс!E4 -> 1419.1471 | I10: 11.504 | J10: =[1]Прайс!F4 -> 1949.1123 | K10: 12.528 | L10: =[1]Прайс!G4 -> 2103.3765 | M10: 18.137 | N10: =[1]Прайс!H4 -> 2949.674
A11: 2 | B11: 1230-2510 (2) | C11: 5.169 | D11: =[1]Прайс!C5 -> 1094.5338 | E11: 8.381 | F11: =[1]Прайс!D5 -> 1516.5138 | G11: 9.292 | H11: =[1]Прайс!E5 -> 1653.706 | I11: 13.359 | J11: =[1]Прайс!F5 -> 2267.8957 | K11: 14.549 | L11: =[1]Прайс!G5 -> 2447.0444 | M11: 21.047 | N11: =[1]Прайс!H5 -> 3427.3353
A12: 3 | B12: 1430-2510 (2) | C12: 5.894 | D12: =[1]Прайс!C6 -> 1252.0597 | E12: 9.55 | F12: =[1]Прайс!D6 -> 1731.9308 | G12: 10.588 | H12: =[1]Прайс!E6 -> 1888.265 | I12: 15.215 | J12: =[1]Прайс!F6 -> 2586.6791 | K12: 16.57 | L12: =[1]Прайс!G6 -> 2790.7123 | M12: 23.958 | N12: =[1]Прайс!H6 -> 3904.9966
A13: 4 | B13: 1530-2510 (3) | C13: 6.552 | D13: =[1]Прайс!C7 -> 1383.9781 | E13: 10.631 | F13: =[1]Прайс!D7 -> 1920.7083 | G13: 11.787 | H13: =[1]Прайс!E7 -> 2094.7416 | I13: 16.961 | J13: =[1]Прайс!F7 -> 2876.3036 | K13: 18.471 | L13: =[1]Прайс!G7 -> 3103.7451 | M13: 26.743 | N13: =[1]Прайс!H7 -> 4351.8958
A14: 5 | B14: 1730-2510 (3) | C14: 7.276 | D14: =[1]Прайс!C8 -> 1541.504 | E14: 11.8 | F14: =[1]Прайс!D8 -> 2136.1253 | G14: 13.083 | H14: =[1]Прайс!E8 -> 2329.3005 | I14: 18.816 | J14: =[1]Прайс!F8 -> 3195.087 | K14: 20.492 | L14: =[1]Прайс!G8 -> 3447.413 | M14: 29.653 | N14: =[1]Прайс!H8 -> 4829.557
A15: 6 | B15: 1930-2510 (3) | C15: 8.001 | D15: =[1]Прайс!C9 -> 1699.0299 | E15: 12.97 | F15: =[1]Прайс!D9 -> 2351.5424 | G15: 14.38 | H15: =[1]Прайс!E9 -> 2563.8595 | I15: 20.672 | J15: =[1]Прайс!F9 -> 3513.8704 | K15: 22.512 | L15: =[1]Прайс!G9 -> 3791.0809 | M15: 32.564 | N15: =[1]Прайс!H9 -> 5307.2183
A16: 7 | B16: 2030-2510 (4) | C16: 8.659 | D16: =[1]Прайс!C10 -> 1830.9483 | E16: 14.051 | F16: =[1]Прайс!D10 -> 2540.3198 | G16: 15.578 | H16: =[1]Прайс!E10 -> 2770.336 | I16: 22.417 | J16: =[1]Прайс!F10 -> 3803.4949 | K16: 24.413 | L16: =[1]Прайс!G10 -> 4104.1136 | M16: 35.348 | N16: =[1]Прайс!H10 -> 5754.1175
A17: 8 | B17: 2230-2510 (4) | C17: 9.383 | D17: =[1]Прайс!C11 -> 1988.4742 | E17: 15.22 | F17: =[1]Прайс!D11 -> 2755.7369 | G17: 16.875 | H17: =[1]Прайс!E11 -> 3004.895 | I17: 24.273 | J17: =[1]Прайс!F11 -> 4122.2783 | K17: 26.434 | L17: =[1]Прайс!G11 -> 4447.7815 | M17: 38.259 | N17: =[1]Прайс!H11 -> 6231.7788
A18: 9 | B18: 2430-2510 (4) | C18: 10.108 | D18: =[1]Прайс!C12 -> 2146 | E18: 16.39 | F18: =[1]Прайс!D12 -> 2971.1539 | G18: 18.171 | H18: =[1]Прайс!E12 -> 3239.454 | I18: 26.129 | J18: =[1]Прайс!F12 -> 4441.0617 | K18: 28.455 | L18: =[1]Прайс!G12 -> 4791.4494 | M18: 41.17 | N18: =[1]Прайс!H12 -> 6709.4401
A19: 10 | B19: 2630-2510 (4) | C19: 10.832 | D19: =[1]Прайс!C13 -> 2303.5259 | E19: 17.559 | F19: =[1]Прайс!D13 -> 3186.571 | G19: 19.468 | H19: =[1]Прайс!E13 -> 3474.0129 | I19: 27.984 | J19: =[1]Прайс!F13 -> 4759.8451 | K19: 30.476 | L19: =[1]Прайс!G13 -> 5135.1173 | M19: 44.08 | N19: =[1]Прайс!H13 -> 7187.1013
A20: 11 | B20: 2830-2510 (4) | C20: 11.557 | D20: =[1]Прайс!C14 -> 2461.0518 | E20: 18.728 | F20: =[1]Прайс!D14 -> 3401.988 | G20: 20.764 | H20: =[1]Прайс!E14 -> 3708.5719 | I20: 29.84 | J20: =[1]Прайс!F14 -> 5078.6285 | K20: 32.497 | L20: =[1]Прайс!G14 -> 5478.7852 | M20: 46.991 | N20: =[1]Прайс!H14 -> 7664.7626
A21: 12 | B21: 3030-2510 (4) | C21: 12.281 | D21: =[1]Прайс!C15 -> 2618.5777 | E21: 19.898 | F21: =[1]Прайс!D15 -> 3617.4051 | G21: 22.06 | H21: =[1]Прайс!E15 -> 3943.1309 | I21: 31.696 | J21: =[1]Прайс!F15 -> 5397.4119 | K21: 34.518 | L21: =[1]Прайс!G15 -> 5822.4531 | M21: 49.901 | N21: =[1]Прайс!H15 -> 8142.4239
A22: 13 | B22: 3330-2510 (5) | C22: 13.664 | D22: =[1]Прайс!C16 -> 2908.022 | E22: 22.148 | F22: =[1]Прайс!D16 -> 4021.5996 | G22: 24.555 | H22: =[1]Прайс!E16 -> 4384.1664 | I22: 35.297 | J22: =[1]Прайс!F16 -> 6005.8198 | K22: 38.44 | L22: =[1]Прайс!G16 -> 6479.1537 | M22: 55.597 | N22: =[1]Прайс!H16 -> 9066.9844
A24: №п/п | B24: Размер панели яч.55*200 | C24: Ø3мм | E24: Ø3,8мм | G24: Ø4мм | I24: Ø4,8мм | K24: Ø5мм | M24: Ø6мм
C25: уд.вес 1шт, кг | D25: цена 1 шт, руб | E25: уд.вес 1шт, кг | F25: цена 1 шт, руб | G25: уд.вес 1шт, кг | H25: цена 1 шт, руб | I25: уд.вес 1шт, кг | J25: цена 1 шт, руб | K25: уд.вес 1шт, кг | L25: цена 1 шт, руб | M25: уд.вес 1шт, кг | N25: цена 1 шт, руб
A26: 1 | B26: 1030-2540 (2) | C26: 4.212 | D26: =[2]Прайс!C4 -> 902.59692 | E26: 6.834 | F26: =[2]Прайс!D4 -> 1246.7754 | G26: 7.576 | H26: =[2]Прайс!E4 -> 1358.6419 | I26: 10.899 | J26: =[2]Прайс!F4 -> 1860.7134 | K26: 11.87 | L26: =[2]Прайс!G4 -> 2006.876 | M26: 17.182 | N26: =[2]Прайс!H4 -> 2808.4644
A27: 2 | B27: 1230-2540 (2) | C27: 4.893 | D27: =[2]Прайс!C5 -> 1053.6059 | E27: 7.932 | F27: =[2]Прайс!D5 -> 1451.9935 | G27: 8.794 | H27: =[2]Прайс!E5 -> 1581.8422 | I27: 12.643 | J27: =[2]Прайс!F5 -> 2163.0356 | K27: 13.768 | L27: =[2]Прайс!G5 -> 2332.5752 | M27: 19.916 | N27: =[2]Прайс!H5 -> 3260.0393
A28: 3 | B28: 1430-2540 (2) | C28: 5.574 | D28: =[2]Прайс!C6 -> 1204.6149 | E28: 9.031 | F28: =[2]Прайс!D6 -> 1657.2115 | G28: 10.012 | H28: =[2]Прайс!E6 -> 1805.0425 | I28: 14.386 | J28: =[2]Прайс!F6 -> 2465.3578 | K28: 15.667 | L28: =[2]Прайс!G6 -> 2658.2743 | M28: 22.65 | N28: =[2]Прайс!H6 -> 3711.6142
A29: 4 | B29: 1530-2540 (3) | C29: 6.206 | D29: =[2]Прайс!C7 -> 1332.7342 | E29: 10.069 | F29: =[2]Прайс!D7 -> 1839.8146 | G29: 11.163 | H29: =[2]Прайс!E7 -> 2004.6399 | I29: 16.061 | J29: =[2]Прайс!F7 -> 2744.6595 | K29: 17.491 | L29: =[2]Прайс!G7 -> 2960.0366 | M29: 25.321 | N29: =[2]Прайс!H7 -> 4141.598
A30: 5 | B30: 1730-2540 (3) | C30: 6.887 | D30: =[2]Прайс!C8 -> 1483.7432 | E30: 11.167 | F30: =[2]Прайс!D8 -> 2045.0327 | G30: 12.381 | H30: =[2]Прайс!E8 -> 2227.8402 | I30: 17.804 | J30: =[2]Прайс!F8 -> 3046.9817 | K30: 19.389 | L30: =[2]Прайс!G8 -> 3285.7358 | M30: 28.055 | N30: =[2]Прайс!H8 -> 4593.1729
A31: 6 | B31: 1930-2540 (3) | C31: 7.567 | D31: =[2]Прайс!C9 -> 1634.7522 | E31: 12.266 | F31: =[2]Прайс!D9 -> 2250.2507 | G31: 13.599 | H31: =[2]Прайс!E9 -> 2451.0405 | I31: 19.547 | J31: =[2]Прайс!F9 -> 3349.3039 | K31: 21.288 | L31: =[2]Прайс!G9 -> 3611.4349 | M31: 30.789 | N31: =[2]Прайс!H9 -> 5044.7479
A32: 7 | B32: 2030-2540 (4) | C32: 8.2 | D32: =[2]Прайс!C10 -> 1762.8715 | E32: 13.304 | F32: =[2]Прайс!D10 -> 2432.8538 | G32: 14.75 | H32: =[2]Прайс!E10 -> 2650.6379 | I32: 21.222 | J32: =[2]Прайс!F10 -> 3628.6056 | K32: 23.112 | L32: =[2]Прайс!G10 -> 3913.1972 | M32: 33.459 | N32: =[2]Прайс!H10 -> 5474.7316
A33: 8 | B33: 2230-2540 (4) | C33: 8.88 | D33: =[2]Прайс!C11 -> 1913.8805 | E33: 14.402 | F33: =[2]Прайс!D11 -> 2638.0718 | G33: 15.968 | H33: =[2]Прайс!E11 -> 2873.8382 | I33: 22.966 | J33: =[2]Прайс!F11 -> 3930.9278 | K33: 25.01 | L33: =[2]Прайс!G11 -> 4238.8964 | M33: 36.193 | N33: =[2]Прайс!H11 -> 5926.3066
A34: 9 | B34: 2430-2540 (4) | C34: 9.561 | D34: =[2]Прайс!C12 -> 2064.8895 | E34: 15.501 | F34: =[2]Прайс!D12 -> 2843.2899 | G34: 17.186 | H34: =[2]Прайс!E12 -> 3097.0385 | I34: 24.709 | J34: =[2]Прайс!F12 -> 4233.25 | K34: 26.909 | L34: =[2]Прайс!G12 -> 4564.5955 | M34: 38.928 | N34: =[2]Прайс!H12 -> 6377.8815
A35: 10 | B35: 2630-2540 (4) | C35: 10.241 | D35: =[2]Прайс!C13 -> 2215.8985 | E35: 16.599 | F35: =[2]Прайс!D13 -> 3048.5079 | G35: 18.403 | H35: =[2]Прайс!E13 -> 3320.2388 | I35: 26.452 | J35: =[2]Прайс!F13 -> 4535.5723 | K35: 28.807 | L35: =[2]Прайс!G13 -> 4890.2947 | M35: 41.662 | N35: =[2]Прайс!H13 -> 6829.4565
A36: 11 | B36: 2830-2540 (4) | C36: 10.922 | D36: =[2]Прайс!C14 -> 2366.9075 | E36: 17.698 | F36: =[2]Прайс!D14 -> 3253.726 | G36: 19.621 | H36: =[2]Прайс!E14 -> 3543.4391 | I36: 28.195 | J36: =[2]Прайс!F14 -> 4837.8945 | K36: 30.706 | L36: =[2]Прайс!G14 -> 5215.9939 | M36: 44.396 | N36: =[2]Прайс!H14 -> 7281.0314
A37: 12 | B37: 3030-2540 (4) | C37: 11.603 | D37: =[2]Прайс!C15 -> 2517.9165 | E37: 18.796 | F37: =[2]Прайс!D15 -> 3458.944 | G37: 20.839 | H37: =[2]Прайс!E15 -> 3766.6394 | I37: 29.938 | J37: =[2]Прайс!F15 -> 5140.2167 | K37: 32.604 | L37: =[2]Прайс!G15 -> 5541.693 | M37: 47.13 | N37: =[2]Прайс!H15 -> 7732.6063
A38: 13 | B38: 3330-2540 (5) | C38: 12.916 | D38: =[2]Прайс!C16 -> 2797.0448 | E38: 20.933 | F38: =[2]Прайс!D16 -> 3846.7651 | G38: 23.208 | H38: =[2]Прайс!E16 -> 4189.437 | I38: 33.357 | J38: =[2]Прайс!F16 -> 5721.8406 | K38: 36.327 | L38: =[2]Прайс!G16 -> 6169.1545 | M38: 52.535 | N38: =[2]Прайс!H16 -> 8614.165
A40: №п/п | B40: Размер панели яч.60*200 | C40: Ø3мм | E40: Ø3,8мм | G40: Ø4мм | I40: Ø4,8мм | K40: Ø5мм | M40: Ø6мм
C41: уд.вес 1шт, кг | D41: цена 1 шт, руб | E41: уд.вес 1шт, кг | F41: цена 1 шт, руб | G41: уд.вес 1шт, кг | H41: цена 1 шт, руб | I41: уд.вес 1шт, кг | J41: цена 1 шт, руб | K41: уд.вес 1шт, кг | L41: цена 1 шт, руб | M41: уд.вес 1шт, кг | N41: цена 1 шт, руб
A42: 1 | B42: 1030-2530 (2) | C42: 3.96 | D42: =[3]Прайс!C4 -> 861.29546 | E42: 6.423 | F42: =[3]Прайс!D4 -> 1184.0393 | G42: 7.121 | H42: =[3]Прайс!E4 -> 1289.1798 | I42: 10.243 | J42: =[3]Прайс!F4 -> 1760.9468 | K42: 11.155 | L42: =[3]Прайс!G4 -> 1898.3029 | M42: 16.145 | N42: =[3]Прайс!H4 -> 2651.3619
A43: 2 | B43: 1230-2530 (2) | C43: 4.594 | D43: =[3]Прайс!C5 -> 1004.7582 | E43: 7.447 | F43: =[3]Прайс!D5 -> 1377.8776 | G43: 8.256 | H43: =[3]Прайс!E5 -> 1499.7804 | I43: 11.868 | J43: =[3]Прайс!F5 -> 2045.3019 | K43: 12.924 | L43: =[3]Прайс!G5 -> 2204.449 | M43: 18.693 | N43: =[3]Прайс!H5 -> 3074.8444
A44: 3 | B44: 1430-2530 (2) | C44: 5.228 | D44: =[3]Прайс!C6 -> 1148.2209 | E44: 8.471 | F44: =[3]Прайс!D6 -> 1571.716 | G44: 9.391 | H44: =[3]Прайс!E6 -> 1710.3811 | I44: 13.493 | J44: =[3]Прайс!F6 -> 2329.6569 | K44: 14.694 | L44: =[3]Прайс!G6 -> 2510.5951 | M44: 21.242 | N44: =[3]Прайс!H6 -> 3498.327
A45: 4 | B45: 1530-2530 (3) | C45: 5.831 | D45: =[3]Прайс!C7 -> 1271.3867 | E45: 9.458 | F45: =[3]Прайс!D7 -> 1746.6228 | G45: 10.486 | H45: =[3]Прайс!E7 -> 1901.4569 | I45: 15.085 | J45: =[3]Прайс!F7 -> 2596.4506 | K45: 16.429 | L45: =[3]Прайс!G7 -> 2798.7453 | M45: 23.779 | N45: =[3]Прайс!H7 -> 3908.1977
A46: 5 | B46: 1730-2530 (3) | C46: 6.465 | D46: =[3]Прайс!C8 -> 1414.8495 | E46: 10.482 | F46: =[3]Прайс!D8 -> 1940.4611 | G46: 11.622 | H46: =[3]Прайс!E8 -> 2112.0576 | I46: 16.71 | J46: =[3]Прайс!F8 -> 2880.8057 | K46: 18.198 | L46: =[3]Прайс!G8 -> 3104.8914 | M46: 26.328 | N46: =[3]Прайс!H8 -> 4331.6803
A47: 6 | B47: 1930-2530 (3) | C47: 7.099 | D47: =[3]Прайс!C9 -> 1558.3122 | E47: 11.506 | F47: =[3]Прайс!D9 -> 2134.2994 | G47: 12.757 | H47: =[3]Прайс!E9 -> 2322.6583 | I47: 18.335 | J47: =[3]Прайс!F9 -> 3165.1607 | K47: 19.968 | L47: =[3]Прайс!G9 -> 3411.0375 | M47: 28.877 | N47: =[3]Прайс!H9 -> 4755.1629
...
