Workbook

Sheet 3D панели сжатый прайс
A6: Прайс-лист на 3D панели шириной 2,5м
A7: дата | B7: 03 мая 2023г.
A8: №п/п | B8: Размер панели яч.50*200 | C8: Ø3мм | E8: Ø3,8мм | G8: Ø4мм | I8: Ø4,8мм | K8: Ø5мм | M8: Ø6мм
C9: уд.вес 1шт, кг | D9: цена 1 шт, руб | E9: уд.вес 1шт, кг | F9: цена 1 шт, руб | G9: уд.вес 1шт, кг | H9: цена 1 шт, руб | I9: уд.вес 1шт, кг | J9: цена 1 шт, руб | K9: уд.вес 1шт, кг | L9: цена 1 шт, руб | M9: уд.вес 1шт, кг | N9: цена 1 шт, руб
A10: 1 | B10: 1030-2510 (2) | C10: 4.445 | D10: =[1]Прайс!C4 -> 937.00789 | E10: 7.211 | F10: =[1]Прайс!D4 -> 1301.0967 | G10: 7.995 | H10: =[1]Прайс!E4 -> 1419.1471 | I10: 11.504 | J10: =[1]Прайс!F4 -> 1949.1123 | K10: 12.528 | L10: =[1]Прайс!G4 -> 2103.3765 | M10: 18.137 | N10: =[1]Прайс!H4 -> 2949.674
A11: 2 | B11: 1230-2510 (2) | C11: 5.169 | D11: =[1]Прайс!C5 -> 1094.5338 | E11: 8.381 | F11: =[1]Прайс!D5 -> 1516.5138 | G11: 9.292 | H11: =[1]Прайс!E5 -> 1653.706 | I11: 13.359 | J11: =[1]Прайс!F5 -> 2267.8957 | K11: 14.549 | L11: =[1]Прайс!G5 -> 2447.0444 | M11: 21.047 | N11: =[1]Прайс!H5 -> 3427.3353
A12: 3 | B12: 1430-2510 (2) | C12: 5.894 | D12: =[1]Прайс!C6 -> 1252.0597 | E12: 9.55 | F12: =[1]Прайс!D6 -> 1731.9308 | G12: 10.588 | H12: =[1]Прайс!E6 -> 1888.265 | I12: 15.215 | J12: =[1]Прайс!F6 -> 2586.6791 | K12: 16.57 | L12: =[1]Прайс!G6 -> 2790.7123 | M12: 23.958 | N12: =[1]Прайс!H6 -> 3904.9966
A13: 4 | B13: 1530-2510 (3) | C13: 6.552 | D13: =[1]Прайс!C7 -> 1383.9781 | E13: 10.631 | F13: =[1]Прайс!D7 -> 1920.7083 | G13: 11.787 | H13: =[1]Прайс!E7 -> 2094.7416 | I13: 16.961 | J13: =[1]Прайс!F7 -> 2876.3036 | K13: 18.471 | L13: =[1]Прайс!G7 -> 3103.7451 | M13: 26.743 | N13: =[1]Прайс!H7 -> 4351.8958
A14: 5 | B14: 1730-2510 (3) | C14: 7.276 | D14: =[1]Прайс!C8 -> 1541.504 | E14: 11.8 | F14: =[1]Прайс!D8 -> 2136.1253 | G14: 13.083 | H14: =[1]Прайс!E8 -> 2329.3005 | I14: 18.816 | J14: =[1]Прайс!F8 -> 3195.087 | K14: 20.492 | L14: =[1]Прайс!G8 -> 3447.413 | M14: 29.653 | N14: =[1]Прайс!H8 -> 4829.557
A15: 6 | B15: 1930-2510 (3) | C15: 8.001 | D15: =[1]Прайс!C9 -> 1699.0299 | E15: 12.97 | F15: =[1]Прайс!D9 -> 2351.5424 | G15: 14.38 | H15: =[1]Прайс!E9 -> 2563.8595 | I15: 20.672 | J15: =[1]Прайс!F9 -> 3513.8704 | K15: 22.512 | L15: =[1]Прайс!G9 -> 3791.0809 | M15: 32.564 | N15: =[1]Прайс!H9 -> 5307.2183
A16: 7 | B16: 2030-2510 (4) | C16: 8.659 | D16: =[1]Прайс!C10 -> 1830.9483 | E16: 14.051 | F16: =[1]Прайс!D10 -> 2540.3198 | G16: 15.578 | H16: =[1]Прайс!E10 -> 2770.336 | I16: 22.417 | J16: =[1]Прайс!F10 -> 3803.4949 | K16: 24.413 | L16: =[1]Прайс!G10 -> 4104.1136 | M16: 35.348 | N16: =[1]Прайс!H10 -> 5754.1175
A17: 8 | B17: 2230-2510 (4) | C17: 9.383 | D17: =[1]Прайс!C11 -> 1988.4742 | E17: 15.22 | F17: =[1]Прайс!D11 -> 2755.7369 | G17: 16.875 | H17: =[1]Прайс!E11 -> 3004.895 | I17: 24.273 | J17: =[1]Прайс!F11 -> 4122.2783 | K17: 26.434 | L17: =[1]Прайс!G11 -> 4447.7815 | M17: 38.259 | N17: =[1]Прайс!H11 -> 6231.7788
A18: 9 | B18: 2430-2510 (4) | C18: 10.108 | D18: =[1]Прайс!C12 -> 2146 | E18: 16.39 | F18: =[1]Прайс!D12 -> 2971.1539 | G18: 18.171 | H18: =[1]Прайс!E12 -> 3239.454 | I18: 26.129 | J18: =[1]Прайс!F12 -> 4441.0617 | K18: 28.455 | L18: =[1]Прайс!G12 -> 4791.4494 | M18: 41.17 | N18: =[1]Прайс!H12 -> 6709.4401
A19: 10 | B19: 2630-2510 (4) | C19: 10.832 | D19: =[1]Прайс!C13 -> 2303.5259 | E19: 17.559 | F19: =[1]Прайс!D13 -> 3186.571 | G19: 19.468 | H19: =[1]Прайс!E13 -> 3474.0129 | I19: 27.984 | J19: =[1]Прайс!F13 -> 4759.8451 | K19: 30.476 | L19: =[1]Прайс!G13 -> 5135.1173 | M19: 44.08 | N19: =[1]Прайс!H13 -> 7187.1013
A20: 11 | B20: 2830-2510 (4) | C20: 11.557 | D20: =[1]Прайс!C14 -> 2461.0518 | E20: 18.728 | F20: =[1]Прайс!D14 -> 3401.988 | G20: 20.764 | H20: =[1]Прайс!E14 -> 3708.5719 | I20: 29.84 | J20: =[1]Прайс!F14 -> 5078.6285 | K20: 32.497 | L20: =[1]Прайс!G14 -> 5478.7852 | M20: 46.991 | N20: =[1]Прайс!H14 -> 7664.7626
A21: 12 | B21: 3030-2510 (4) | C21: 12.281 | D21: =[1]Прайс!C15 -> 2618.5777 | E21: 19.898 | F21: =[1]Прайс!D15 -> 3617.4051 | G21: 22.06 | H21: =[1]Прайс!E15 -> 3943.1309 | I21: 31.696 | J21: =[1]Прайс!F15 -> 5397.4119 | K21: 34.518 | L21: =[1]Прайс!G15 -> 5822.4531 | M21: 49.901 | N21: =[1]Прайс!H15 -> 8142.4239
A22: 13 | B22: 3330-2510 (5) | C22: 13.664 | D22: =[1]Прайс!C16 -> 2908.022 | E22: 22.148 | F22: =[1]Прайс!D16 -> 4021.5996 | G22: 24.555 | H22: =[1]Прайс!E16 -> 4384.1664 | I22: 35.297 | J22: =[1]Прайс!F16 -> 6005.8198 | K22: 38.44 | L22: =[1]Прайс!G16 -> 6479.1537 | M22: 55.597 | N22: =[1]Прайс!H16 -> 9066.9844
A24: №п/п | B24: Размер панели яч.55*200 | C24: Ø3мм | E24: Ø3,8мм | G24: Ø4мм | I24: Ø4,8мм | K24: Ø5мм | M24: Ø6мм
C25: уд.вес 1шт, кг | D25: цена 1 шт, руб | E25: уд.вес 1шт, кг | F25: цена 1 шт, руб | G25: уд.вес 1шт, кг | H25: цена 1 шт, руб | I25: уд.вес 1шт, кг | J25: цена 1 шт, руб | K25: уд.вес 1шт, кг | L25: цена 1 шт, руб | M25: уд.вес 1шт, кг | N25: цена 1 шт, руб
A26: 1 | B26: 1030-2540 (2) | C26: 4.212 | D26: =[2]Прайс!C4 -> 902.59692 | E26: 6.834 | F26: =[2]Прайс!D4 -> 1246.7754 | G26: 7.576 | H26: =[2]Прайс!E4 -> 1358.6419 | I26: 10.899 | J26: =[2]Прайс!F4 -> 1860.7134 | K26: 11.87 | L26: =[2]Прайс!G4 -> 2006.876 | M26: 17.182 | N26: =[2]Прайс!H4 -> 2808.4644
A27: 2 | B27: 1230-2540 (2) | C27: 4.893 | D27: =[2]Прайс!C5 -> 1053.6059 | E27: 7.932 | F27: =[2]Прайс!D5 -> 1451.9935 | G27: 8.794 | H27: =[2]Прайс!E5 -> 1581.8422 | I27: 12.643 | J27: =[2]Прайс!F5 -> 2163.0356 | K27: 13.768 | L27: =[2]Прайс!G5 -> 2332.5752 | M27: 19.916 | N27: =[2]Прайс!H5 -> 3260.0393
A28: 3 | B28: 1430-2540 (2) | C28: 5.574 | D28: =[2]Прайс!C6 -> 1204.6149 | E28: 9.031 | F28: =[2]Прайс!D6 -> 1657.2115 | G28: 10.012 | H28: =[2]Прайс!E6 -> 1805.0425 | I28: 14.386 | J28: =[2]Прайс!F6 -> 2465.3578 | K28: 15.667 | L28: =[2]Прайс!G6 -> 2658.2743 | M28: 22.65 | N28: =[2]Прайс!H6 -> 3711.6142
A29: 4 | B29: 1530-2540 (3) | C29: 6.206 | D29: =[2]Прайс!C7 -> 1332.7342 | E29: 10.069 | F29: =[2]Прайс!D7 -> 1839.8146 | G29: 11.163 | H29: =[2]Прайс!E7 -> 2004.6399 | I29: 16.061 | J29: =[2]Прайс!F7 -> 2744.6595 | K29: 17.491 | L29: =[2]Прайс!G7 -> 2960.0366 | M29: 25.321 | N29: =[2]Прайс!H7 -> 4141.598
A30: 5 | B30: 1730-2540 (3) | C30: 6.887 | D30: =[2]Прайс!C8 -> 1483.7432 | E30: 11.167 | F30: =[2]Прайс!D8 -> 2045.0327 | G30: 12.381 | H30: =[2]Прайс!E8 -> 2227.8402 | I30: 17.804 | J30: =[2]Прайс!F8 -> 3046.9817 | K30: 19.389 | L30: =[2]Прайс!G8 -> 3285.7358 | M30: 28.055 | N30: =[2]Прайс!H8 -> 4593.1729
A31: 6 | B31: 1930-2540 (3) | C31: 7.567 | D31: =[2]Прайс!C9 -> 1634.7522 | E31: 12.266 | F31: =[2]Прайс!D9 -> 2250.2507 | G31: 13.599 | H31: =[2]Прайс!E9 -> 2451.0405 | I31: 19.547 | J31: =[2]Прайс!F9 -> 3349.3039 | K31: 21.288 | L31: =[2]Прайс!G9 -> 3611.4349 | M31: 30.789 | N31: =[2]Прайс!H9 -> 5044.7479
A32: 7 | B32: 2030-2540 (4) | C32: 8.2 | D32: =[2]Прайс!C10 -> 1762.8715 | E32: 13.304 | F32: =[2]Прайс!D10 -> 2432.8538 | G32: 14.75 | H32: =[2]Прайс!E10 -> 2650.6379 | I32: 21.222 | J32: =[2]Прайс!F10 -> 3628.6056 | K32: 23.112 | L32: =[2]Прайс!G10 -> 3913.1972 | M32: 33.459 | N32: =[2]Прайс!H10 -> 5474.7316
A33: 8 | B33: 2230-2540 (4) | C33: 8.88 | D33: =[2]Прайс!C11 -> 1913.8805 | E33: 14.402 | F33: =[2]Прайс!D11 -> 2638.0718 | G33: 15.968 | H33: =[2]Прайс!E11 -> 2873.8382 | I33: 22.966 | J33: =[2]Прайс!F11 -> 3930.9278 | K33: 25.01 | L33: =[2]Прайс!G11 -> 4238.8964 | M33: 36.193 | N33: =[2]Прайс!H11 -> 5926.3066
A34: 9 | B34: 2430-2540 (4) | C34: 9.561 | D34: =[2]Прайс!C12 -> 2064.8895 | E34: 15.501 | F34: =[2]Прайс!D12 -> 2843.2899 | G34: 17.186 | H34: =[2]Прайс!E12 -> 3097.0385 | I34: 24.709 | J34: =[2]Прайс!F12 -> 4233.25 | K34: 26.909 | L34: =[2]Прайс!G12 -> 4564.5955 | M34: 38.928 | N34: =[2]Прайс!H12 -> 6377.8815
A35: 10 | B35: 2630-2540 (4) | C35: 10.241 | D35: =[2]Прайс!C13 -> 2215.8985 | E35: 16.599 | F35: =[2]Прайс!D13 -> 3048.5079 | G35: 18.403 | H35: =[2]Прайс!E13 -> 3320.2388 | I35: 26.452 | J35: =[2]Прайс!F13 -> 4535.5723 | K35: 28.807 | L35: =[2]Прайс!G13 -> 4890.2947 | M35: 41.662 | N35: =[2]Прайс!H13 -> 6829.4565
A36: 11 | B36: 2830-2540 (4) | C36: 10.922 | D36: =[2]Прайс!C14 -> 2366.9075 | E36: 17.698 | F36: =[2]Прайс!D14 -> 3253.726 | G36: 19.621 | H36: =[2]Прайс!E14 -> 3543.4391 | I36: 28.195 | J36: =[2]Прайс!F14 -> 4837.8945 | K36: 30.706 | L36: =[2]Прайс!G14 -> 5215.9939 | M36: 44.396 | N36: =[2]Прайс!H14 -> 7281.0314
A37: 12 | B37: 3030-2540 (4) | C37: 11.603 | D37: =[2]Прайс!C15 -> 2517.9165 | E37: 18.796 | F37: =[2]Прайс!D15 -> 3458.944 | G37: 20.839 | H37: =[2]Прайс!E15 -> 3766.6394 | I37: 29.938 | J37: =[2]Прайс!F15 -> 5140.2167 | K37: 32.604 | L37: =[2]Прайс!G15 -> 5541.693 | M37: 47.13 | N37: =[2]Прайс!H15 -> 7732.6063
A38: 13 | B38: 3330-2540 (5) | C38: 12.916 | D38: =[2]Прайс!C16 -> 2797.0448 | E38: 20.933 | F38: =[2]Прайс!D16 -> 3846.7651 | G38: 23.208 | H38: =[2]Прайс!E16 -> 4189.437 | I38: 33.357 | J38: =[2]Прайс!F16 -> 5721.8406 | K38: 36.327 | L38: =[2]Прайс!G16 -> 6169.1545 | M38: 52.535 | N38: =[2]Прайс!H16 -> 8614.165
A40: №п/п | B40: Размер панели яч.60*200 | C40: Ø3мм | E40: Ø3,8мм | G40: Ø4мм | I40: Ø4,8мм | K40: Ø5мм | M40: Ø6мм
C41: уд.вес 1шт, кг | D41: цена 1 шт, руб | E41: уд.вес 1шт, кг | F41: цена 1 шт, руб | G41: уд.вес 1шт, кг | H41: цена 1 шт, руб | I41: уд.вес 1шт, кг | J41: цена 1 шт, руб | K41: уд.вес 1шт, кг | L41: цена 1 шт, руб | M41: уд.вес 1шт, кг | N41: цена 1 шт, руб
A42: 1 | B42: 1030-2530 (2) | C42: 3.96 | D42: =[3]Прайс!C4 -> 861.29546 | E42: 6.423 | F42: =[3]Прайс!D4 -> 1184.0393 | G42: 7.121 | H42: =[3]Прайс!E4 -> 1289.1798 | I42: 10.243 | J42: =[3]Прайс!F4 -> 1760.9468 | K42: 11.155 | L42: =[3]Прайс!G4 -> 1898.3029 | M42: 16.145 | N42: =[3]Прайс!H4 -> 2651.3619
A43: 2 | B43: 1230-2530 (2) | C43: 4.594 | D43: =[3]Прайс!C5 -> 1004.7582 | E43: 7.447 | F43: =[3]Прайс!D5 -> 1377.8776 | G43: 8.256 | H43: =[3]Прайс!E5 -> 1499.7804 | I43: 11.868 | J43: =[3]Прайс!F5 -> 2045.3019 | K43: 12.924 | L43: =[3]Прайс!G5 -> 2204.449 | M43: 18.693 | N43: =[3]Прайс!H5 -> 3074.8444
A44: 3 | B44: 1430-2530 (2) | C44: 5.228 | D44: =[3]Прайс!C6 -> 1148.2209 | E44: 8.471 | F44: =[3]Прайс!D6 -> 1571.716 | G44: 9.391 | H44: =[3]Прайс!E6 -> 1710.3811 | I44: 13.493 | J44: =[3]Прайс!F6 -> 2329.6569 | K44: 14.694 | L44: =[3]Прайс!G6 -> 2510.5951 | M44: 21.242 | N44: =[3]Прайс!H6 -> 3498.327
A45: 4 | B45: 1530-2530 (3) | C45: 5.831 | D45: =[3]Прайс!C7 -> 1271.3867 | E45: 9.458 | F45: =[3]Прайс!D7 -> 1746.6228 | G45: 10.486 | H45: =[3]Прайс!E7 -> 1901.4569 | I45: 15.085 | J45: =[3]Прайс!F7 -> 2596.4506 | K45: 16.429 | L45: =[3]Прайс!G7 -> 2798.7453 | M45: 23.779 | N45: =[3]Прайс!H7 -> 3908.1977
A46: 5 | B46: 1730-2530 (3) | C46: 6.465 | D46: =[3]Прайс!C8 -> 1414.8495 | E46: 10.482 | F46: =[3]Прайс!D8 -> 1940.4611 | G46: 11.622 | H46: =[3]Прайс!E8 -> 2112.0576 | I46: 16.71 | J46: =[3]Прайс!F8 -> 2880.8057 | K46: 18.198 | L46: =[3]Прайс!G8 -> 3104.8914 | M46: 26.328 | N46: =[3]Прайс!H8 -> 4331.6803
A47: 6 | B47: 1930-2530 (3) | C47: 7.099 | D47: =[3]Прайс!C9 -> 1558.3122 | E47: 11.506 | F47: =[3]Прайс!D9 -> 2134.2994 | G47: 12.757 | H47: =[3]Прайс!E9 -> 2322.6583 | I47: 18.335 | J47: =[3]Прайс!F9 -> 3165.1607 | K47: 19.968 | L47: =[3]Прайс!G9 -> 3411.0375 | M47: 28.877 | N47: =[3]Прайс!H9 -> 4755.1629
A48: 7 | B48: 2030-2530 (4) | C48: 7.702 | D48: =[3]Прайс!C10 -> 1681.478 | E48: 12.494 | F48: =[3]Прайс!D10 -> 2309.2062 | G48: 13.852 | H48: =[3]Прайс!E10 -> 2513.734 | I48: 19.928 | J48: =[3]Прайс!F10 -> 3431.9544 | K48: 21.702 | L48: =[3]Прайс!G10 -> 3699.1876 | M48: 31.414 | N48: =[3]Прайс!H10 -> 5165.0336
A49: 8 | B49: 2230-2530 (4) | C49: 8.336 | D49: =[3]Прайс!C11 -> 1824.9407 | E49: 13.518 | F49: =[3]Прайс!D11 -> 2503.0445 | G49: 14.987 | H49: =[3]Прайс!E11 -> 2724.3347 | I49: 21.553 | J49: =[3]Прайс!F11 -> 3716.3095 | K49: 23.472 | L49: =[3]Прайс!G11 -> 4005.3337 | M49: 33.963 | N49: =[3]Прайс!H11 -> 5588.5162
A50: 9 | B50: 2430-2530 (4) | C50: 8.97 | D50: =[3]Прайс!C12 -> 1968.4035 | E50: 14.542 | F50: =[3]Прайс!D12 -> 2696.8829 | G50: 16.123 | H50: =[3]Прайс!E12 -> 2934.9354 | I50: 23.178 | J50: =[3]Прайс!F12 -> 4000.6645 | K50: 25.242 | L50: =[3]Прайс!G12 -> 4311.4798 | M50: 36.512 | N50: =[3]Прайс!H12 -> 6011.9988
A51: 10 | B51: 2630-2530 (4) | C51: 9.605 | D51: =[3]Прайс!C13 -> 2111.8662 | E51: 15.566 | F51: =[3]Прайс!D13 -> 2890.7212 | G51: 17.258 | H51: =[3]Прайс!E13 -> 3145.5361 | I51: 24.803 | J51: =[3]Прайс!F13 -> 4285.0195 | K51: 27.011 | L51: =[3]Прайс!G13 -> 4617.6259 | M51: 39.061 | N51: =[3]Прайс!H13 -> 6435.4813
A52: 11 | B52: 2830-2530 (4) | C52: 10.239 | D52: =[3]Прайс!C14 -> 2255.3289 | E52: 16.59 | F52: =[3]Прайс!D14 -> 3084.5595 | G52: 18.393 | H52: =[3]Прайс!E14 -> 3356.1368 | I52: 26.428 | J52: =[3]Прайс!F14 -> 4569.3746 | K52: 28.781 | L52: =[3]Прайс!G14 -> 4923.772 | M52: 41.609 | N52: =[3]Прайс!H14 -> 6858.9639
A53: 12 | B53: 3030-2530 (4) | C53: 10.874 | D53: =[3]Прайс!C15 -> 2398.7917 | E53: 17.614 | F53: =[3]Прайс!D15 -> 3278.3979 | G53: 19.528 | H53: =[3]Прайс!E15 -> 3566.7374 | I53: 28.053 | J53: =[3]Прайс!F15 -> 4853.7296 | K53: 30.551 | L53: =[3]Прайс!G15 -> 5229.9181 | M53: 44.158 | N53: =[3]Прайс!H15 -> 7282.4465
A54: 13 | B54: 3330-2530 (5) | C54: 12.11 | D54: =[3]Прайс!C16 -> 2665.4202 | E54: 19.625 | F54: =[3]Прайс!D16 -> 3647.143 | G54: 21.759 | H54: =[3]Прайс!E16 -> 3968.4139 | I54: 31.27 | J54: =[3]Прайс!F16 -> 5404.8784 | K54: 34.055 | L54: =[3]Прайс!G16 -> 5824.2143 | M54: 49.244 | N54: =[3]Прайс!H16 -> 8115.7998
A56: ***Примечание. При расчете стоимости панелей следует учитывать следующие параметры:
A57: 1) | B57: Размер ячейки сетки | E57: 3) | F57: Высота огражденния
A58: 2) | B58: Диаметр прутка сетки | E58: 4) | F58: Ширина одной панели
A66: Прайс-лист на 3D панели шириной 3м
A67: дата | B67: 03 мая 2023г.
A68: №п/п | B68: Размер панели яч.50*200 | C68: Ø3мм | E68: Ø3,8мм | G68: Ø4мм | I68: Ø4,8мм | K68: Ø5мм | M68: Ø6мм
C69: уд.вес 1шт, кг | D69: цена 1 шт, руб | E69: уд.вес 1шт, кг | F69: цена 1 шт, руб | G69: уд.вес 1шт, кг | H69: цена 1 шт, руб | I69: уд.вес 1шт, кг | J69: цена 1 шт, руб | K69: уд.вес 1шт, кг | L69: цена 1 шт, руб | M69: уд.вес 1шт, кг | N69: цена 1 шт, руб
A70: 1 | B70: 1030-3010 (2) | C70: 5.32 | D70: =[4]Прайс!C4 -> 1122.086 | E70: 8.632 | F70: =[4]Прайс!D4 -> 1557.8637 | G70: 9.57 | H70: =[4]Прайс!E4 -> 1699.1675 | I70: 13.77 | J70: =[4]Прайс!F4 -> 2333.5201 | K70: 14.996 | L70: =[4]Прайс!G4 -> 2518.1705 | M70: 21.709 | N70: =[4]Прайс!H4 -> 3531.1577
A71: 2 | B71: 1230-3010 (2) | C71: 6.187 | D71: =[4]Прайс!C5 -> 1310.7012 | E71: 10.031 | F71: =[4]Прайс!D5 -> 1815.7509 | G71: 11.121 | H71: =[4]Прайс!E5 -> 1979.9617 | I71: 15.99 | J71: =[4]Прайс!F5 -> 2715.1054 | K71: 17.414 | L71: =[4]Прайс!G5 -> 2929.5349 | M71: 25.192 | N71: =[4]Прайс!H5 -> 4102.8714
A72: 3 | B72: 1430-3010 (2) | C72: 7.054 | D72: =[4]Прайс!C6 -> 1499.3163 | E72: 11.43 | F72: =[4]Прайс!D6 -> 2073.6381 | G72: 12.673 | H72: =[4]Прайс!E6 -> 2260.756 | I72: 18.211 | J72: =[4]Прайс!F6 -> 3096.6906 | K72: 19.832 | L72: =[4]Прайс!G6 -> 3340.8993 | M72: 28.675 | N72: =[4]Прайс!H6 -> 4674.5851
A73: 4 | B73: 1530-3010 (3) | C73: 7.842 | D73: =[4]Прайс!C7 -> 1657.3274 | E73: 12.725 | F73: =[4]Прайс!D7 -> 2299.7291 | G73: 14.108 | H73: =[4]Прайс!E7 -> 2508.0402 | I73: 20.301 | J73: =[4]Прайс!F7 -> 3443.5327 | K73: 22.109 | L73: =[4]Прайс!G7 -> 3715.7702 | M73: 32.01 | N73: =[4]Прайс!H7 -> 5209.7385
A74: 5 | B74: 1730-3010 (3) | C74: 8.709 | D74: =[4]Прайс!C8 -> 1845.9426 | E74: 14.124 | F74: =[4]Прайс!D8 -> 2557.6163 | G74: 15.66 | H74: =[4]Прайс!E8 -> 2788.8344 | I74: 22.522 | J74: =[4]Прайс!F8 -> 3825.1179 | K74: 24.527 | L74: =[4]Прайс!G8 -> 4127.1346 | M74: 35.493 | N74: =[4]Прайс!H8 -> 5781.4523
A75: 6 | B75: 1930-3010 (3) | C75: 9.576 | D75: =[4]Прайс!C9 -> 2034.5577 | E75: 15.524 | F75: =[4]Прайс!D9 -> 2815.5035 | G75: 17.211 | H75: =[4]Прайс!E9 -> 3069.6287 | I75: 24.742 | J75: =[4]Прайс!F9 -> 4206.7032 | K75: 26.945 | L75: =[4]Прайс!G9 -> 4538.499 | M75: 38.976 | N75: =[4]Прайс!H9 -> 6353.166
A76: 7 | B76: 2030-3010 (4) | C76: 10.364 | D76: =[4]Прайс!C10 -> 2192.5689 | E76: 16.818 | F76: =[4]Прайс!D10 -> 3041.5946 | G76: 18.646 | H76: =[4]Прайс!E10 -> 3316.9128 | I76: 26.832 | J76: =[4]Прайс!F10 -> 4553.5453 | K76: 29.222 | L76: =[4]Прайс!G10 -> 4913.3699 | M76: 42.31 | N76: =[4]Прайс!H10 -> 6888.3194
A77: 8 | B77: 2230-3010 (4) | C77: 11.231 | D77: =[4]Прайс!C11 -> 2381.184 | E77: 18.218 | F77: =[4]Прайс!D11 -> 3299.4818 | G77: 20.198 | H77: =[4]Прайс!E11 -> 3597.7071 | I77: 29.053 | J77: =[4]Прайс!F11 -> 4935.1305 | K77: 31.64 | L77: =[4]Прайс!G11 -> 5324.7343 | M77: 45.793 | N77: =[4]Прайс!H11 -> 7460.0331
A78: 9 | B78: 2430-3010 (4) | C78: 12.098 | D78: =[4]Прайс!C12 -> 2569.7992 | E78: 19.617 | F78: =[4]Прайс!D12 -> 3557.369 | G78: 21.749 | H78: =[4]Прайс!E12 -> 3878.5013 | I78: 31.274 | J78: =[4]Прайс!F12 -> 5316.7157 | K78: 34.058 | L78: =[4]Прайс!G12 -> 5736.0987 | M78: 49.276 | N78: =[4]Прайс!H12 -> 8031.7468
A79: 10 | B79: 2630-3010 (4) | C79: 12.965 | D79: =[4]Прайс!C13 -> 2758.4143 | E79: 21.016 | F79: =[4]Прайс!D13 -> 3815.2562 | G79: 23.301 | H79: =[4]Прайс!E13 -> 4159.2956 | I79: 33.494 | J79: =[4]Прайс!F13 -> 5698.301 | K79: 36.477 | L79: =[4]Прайс!G13 -> 6147.4631 | M79: 52.759 | N79: =[4]Прайс!H13 -> 8603.4605
A80: 11 | B80: 2830-3010 (4) | C80: 13.832 | D80: =[4]Прайс!C14 -> 2947.0295 | E80: 22.416 | F80: =[4]Прайс!D14 -> 4073.1434 | G80: 24.852 | H80: =[4]Прайс!E14 -> 4440.0898 | I80: 35.715 | J80: =[4]Прайс!F14 -> 6079.8862 | K80: 38.895 | L80: =[4]Прайс!G14 -> 6558.8275 | M80: 56.242 | N80: =[4]Прайс!H14 -> 9175.1742
A81: 12 | B81: 3030-3010 (4) | C81: 14.699 | D81: =[4]Прайс!C15 -> 3135.6447 | E81: 23.815 | F81: =[4]Прайс!D15 -> 4331.0306 | G81: 26.404 | H81: =[4]Прайс!E15 -> 4720.8841 | I81: 37.936 | J81: =[4]Прайс!F15 -> 6461.4715 | K81: 41.314 | L81: =[4]Прайс!G15 -> 6970.1919 | M81: 59.725 | N81: =[4]Прайс!H15 -> 9746.8879
A82: 13 | B82: 3330-3010 (5) | C82: 16.354 | D82: =[4]Прайс!C16 -> 3482.2709 | E82: 26.509 | F82: =[4]Прайс!D16 -> 4815.0088 | G82: 29.39 | H82: =[4]Прайс!E16 -> 5248.9625 | I82: 42.247 | J82: =[4]Прайс!F16 -> 7189.8988 | K82: 46.008 | L82: =[4]Прайс!G16 -> 7756.4272 | M82: 66.543 | N82: =[4]Прайс!H16 -> 10853.755
A84: №п/п | B84: Размер панели яч.55*200 | C84: Ø3мм | E84: Ø3,8мм | G84: Ø4мм | I84: Ø4,8мм | K84: Ø5мм | M84: Ø6мм
C85: уд.вес 1шт, кг | D85: цена 1 шт, руб | E85: уд.вес 1шт, кг | F85: цена 1 шт, руб | G85: уд.вес 1шт, кг | H85: цена 1 шт, руб | I85: уд.вес 1шт, кг | J85: цена 1 шт, руб | K85: уд.вес 1шт, кг | L85: цена 1 шт, руб | M85: уд.вес 1шт, кг | N85: цена 1 шт, руб
A86: 1 | B86: 1030-3030 (2) | C86: 5.023 | D86: =[5]Прайс!C4 -> 1076.919 | E86: 8.149 | F86: =[5]Прайс!D4 -> 1487.3325 | G86: 9.035 | H86: =[5]Прайс!E4 -> 1620.737 | I86: 12.998 | J86: =[5]Прайс!F4 -> 2219.4691 | K86: 14.155 | L86: =[5]Прайс!G4 -> 2393.7721 | M86: 20.49 | N86: =[5]Прайс!H4 -> 3349.6791
A87: 2 | B87: 1230-3030 (2) | C87: 5.835 | D87: =[5]Прайс!C5 -> 1257.0664 | E87: 9.459 | F87: =[5]Прайс!D5 -> 1732.1019 | G87: 10.487 | H87: =[5]Прайс!E5 -> 1886.9451 | I87: 15.076 | J87: =[5]Прайс!F5 -> 2580.0073 | K87: 16.419 | L87: =[5]Прайс!G5 -> 2782.1805 | M87: 23.75 | N87: =[5]Прайс!H5 -> 3888.158
A88: 3 | B88: 1430-3030 (2) | C88: 6.646 | D88: =[5]Прайс!C6 -> 1437.2137 | E88: 10.769 | F88: =[5]Прайс!D6 -> 1976.8714 | G88: 11.939 | H88: =[5]Прайс!E6 -> 2153.1532 | I88: 17.155 | J88: =[5]Прайс!F6 -> 2940.5454 | K88: 18.682 | L88: =[5]Прайс!G6 -> 3170.5889 | M88: 27.009 | N88: =[5]Прайс!H6 -> 4426.6369
A89: 4 | B89: 1530-3030 (3) | C89: 7.401 | D89: =[5]Прайс!C7 -> 1590.1152 | E89: 12.007 | F89: =[5]Прайс!D7 -> 2194.7689 | G89: 13.312 | H89: =[5]Прайс!E7 -> 2391.3252 | I89: 19.153 | J89: =[5]Прайс!F7 -> 3273.8011 | K89: 20.858 | L89: =[5]Прайс!G7 -> 3530.6399 | M89: 30.195 | N89: =[5]Прайс!H7 -> 4939.6468
A90: 5 | B90: 1730-3030 (3) | C90: 8.212 | D90: =[5]Прайс!C8 -> 1770.2626 | E90: 13.317 | F90: =[5]Прайс!D8 -> 2439.5384 | G90: 14.764 | H90: =[5]Прайс!E8 -> 2657.5333 | I90: 21.231 | J90: =[5]Прайс!F8 -> 3634.3392 | K90: 23.121 | L90: =[5]Прайс!G8 -> 3919.0483 | M90: 33.455 | N90: =[5]Прайс!H8 -> 5478.1257
A91: 6 | B91: 1930-3030 (3) | C91: 9.024 | D91: =[5]Прайс!C9 -> 1950.4099 | E91: 14.626 | F91: =[5]Прайс!D9 -> 2684.3078 | G91: 16.216 | H91: =[5]Прайс!E9 -> 2923.7414 | I91: 23.309 | J91: =[5]Прайс!F9 -> 3994.8774 | K91: 25.385 | L91: =[5]Прайс!G9 -> 4307.4567 | M91: 26.714 | N91: =[5]Прайс!H9 -> 6016.6046
A92: 7 | B92: 2030-3030 (4) | C92: 9.778 | D92: =[5]Прайс!C10 -> 2103.3114 | E92: 15.865 | F92: =[5]Прайс!D10 -> 2902.2053 | G92: 17.589 | H92: =[5]Прайс!E10 -> 3161.9134 | I92: 25.307 | J92: =[5]Прайс!F10 -> 4328.133 | K92: 27.561 | L92: =[5]Прайс!G10 -> 4667.5077 | M92: 39.9 | N92: =[5]Прайс!H10 -> 6529.6145
A93: 8 | B93: 2230-3030 (4) | C93: 10.59 | D93: =[5]Прайс!C11 -> 2283.4588 | E93: 17.174 | F93: =[5]Прайс!D11 -> 3146.9748 | G93: 19.041 | H93: =[5]Прайс!E11 -> 3428.1215 | I93: 27.386 | J93: =[5]Прайс!F11 -> 4688.6712 | K93: 29.824 | L93: =[5]Прайс!G11 -> 5055.9161 | M93: 43.16 | N93: =[5]Прайс!H11 -> 7068.0934
A94: 9 | B94: 2430-3030 (4) | C94: 11.401 | D94: =[5]Прайс!C12 -> 2463.6061 | E94: 18.484 | F94: =[5]Прайс!D12 -> 3391.7443 | G94: 20.493 | H94: =[5]Прайс!E12 -> 3694.3296 | I94: 29.464 | J94: =[5]Прайс!F12 -> 5049.2093 | K94: 32.088 | L94: =[5]Прайс!G12 -> 5444.3245 | M94: 46.419 | N94: =[5]Прайс!H12 -> 7606.5723
A95: 10 | B95: 2630-3030 (4) | C95: 12.212 | D95: =[5]Прайс!C13 -> 2643.7535 | E95: 19.794 | F95: =[5]Прайс!D13 -> 3636.5137 | G95: 21.945 | H95: =[5]Прайс!E13 -> 3960.5377 | I95: 31.542 | J95: =[5]Прайс!F13 -> 5409.7475 | K95: 34.351 | L95: =[5]Прайс!G13 -> 5832.7329 | M95: 49.679 | N95: =[5]Прайс!H13 -> 8145.0512
A96: 11 | B96: 2830-3030 (4) | C96: 13.024 | D96: =[5]Прайс!C14 -> 2823.9009 | E96: 21.103 | F96: =[5]Прайс!D14 -> 3881.2832 | G96: 23.397 | H96: =[5]Прайс!E14 -> 4226.7458 | I96: 33.621 | J96: =[5]Прайс!F14 -> 5770.2856 | K96: 36.614 | L96: =[5]Прайс!G14 -> 6221.1413 | M96: 52.939 | N96: =[5]Прайс!H14 -> 8683.5301
A97: 12 | B97: 3030-3030 (4) | C97: 13.835 | D97: =[5]Прайс!C15 -> 3004.0482 | E97: 22.413 | F97: =[5]Прайс!D15 -> 4126.0527 | G97: 24.849 | H97: =[5]Прайс!E15 -> 4492.9539 | I97: 35.699 | J97: =[5]Прайс!F15 -> 6130.8238 | K97: 38.878 | L97: =[5]Прайс!G15 -> 6609.5497 | M97: 56.199 | N97: =[5]Прайс!H15 -> 9222.0089
A98: 13 | B98: 3330-3030 (5) | C98: 15.401 | D98: =[5]Прайс!C16 -> 3337.0971 | E98: 24.961 | F98: =[5]Прайс!D16 -> 4588.7196 | G98: 27.674 | H98: =[5]Прайс!E16 -> 4997.334 | I98: 39.776 | J98: =[5]Прайс!F16 -> 6824.6176 | K98: 43.317 | L98: =[5]Прайс!G16 -> 7358.0091 | M98: 62.644 | N98: =[5]Прайс!H16 -> 10273.498
A100: №п/п | B100: Размер панели яч.60*200 | C100: Ø3мм | E100: Ø3,8мм | G100: Ø4мм | I100: Ø4,8мм | K100: Ø5мм | M100: Ø6мм
C101: уд.вес 1шт, кг | D101: цена 1 шт, руб | E101: уд.вес 1шт, кг | F101: цена 1 шт, руб | G101: уд.вес 1шт, кг | H101: цена 1 шт, руб | I101: уд.вес 1шт, кг | J101: цена 1 шт, руб | K101: уд.вес 1шт, кг | L101: цена 1 шт, руб | M101: уд.вес 1шт, кг | N101: цена 1 шт, руб
A102: 1 | B102: 1030-3005 (2) | C102: 4.701 | D102: =[6]Прайс!C4 -> 1023.1389 | E102: 7.625 | F102: =[6]Прайс!D4 -> 1406.2826 | G102: 8.454 | H102: =[6]Прайс!E4 -> 1531.1102 | I102: 12.161 | J102: =[6]Прайс!F4 -> 2091.2085 | K102: 13.243 | L102: =[6]Прайс!G4 -> 2254.2831 | M102: 19.167 | N102: =[6]Прайс!H4 -> 3148.3345
A103: 2 | B103: 1230-3005 (2) | C103: 5.454 | D103: =[6]Прайс!C5 -> 1193.5318 | E103: 8.841 | F103: =[6]Прайс!D5 -> 1636.4585 | G103: 9.802 | H103: =[6]Прайс!E5 -> 1781.181 | I103: 14.089 | J103: =[6]Прайс!F5 -> 2428.817 | K103: 15.344 | L103: =[6]Прайс!G5 -> 2617.7551 | M103: 22.192 | N103: =[6]Прайс!H5 -> 3651.071
A104: 3 | B104: 1430-3005 (2) | C104: 6.207 | D104: =[6]Прайс!C6 -> 1363.9246 | E104: 10.056 | F104: =[6]Прайс!D6 -> 1866.6343 | G104: 11.149 | H104: =[6]Прайс!E6 -> 2031.2518 | I104: 16.018 | J104: =[6]Прайс!F6 -> 2766.4255 | K104: 17.444 | L104: =[6]Прайс!G6 -> 2981.2271 | M104: 25.217 | N104: =[6]Прайс!H6 -> 4153.8076
A105: 4 | B105: 1530-3005 (3) | C105: 6.922 | D105: =[6]Прайс!C7 -> 1510.2735 | E105: 11.229 | F105: =[6]Прайс!D7 -> 2074.4359 | G105: 12.45 | H105: =[6]Прайс!E7 -> 2258.2585 | I105: 17.91 | J105: =[6]Прайс!F7 -> 3083.3635 | K105: 19.504 | L105: =[6]Прайс!G7 -> 3323.5311 | M105: 28.231 | N105: =[6]Прайс!H7 -> 4640.677
A106: 5 | B106: 1730-3005 (3) | C106: 7.675 | D106: =[6]Прайс!C8 -> 1680.6663 | E106: 12.444 | F106: =[6]Прайс!D8 -> 2304.6117 | G106: 13.797 | H106: =[6]Прайс!E8 -> 2508.3293 | I106: 19.838 | J106: =[6]Прайс!F8 -> 3420.972 | K106: 21.605 | L106: =[6]Прайс!G8 -> 3687.0031 | M106: 31.256 | N106: =[6]Прайс!H8 -> 5143.4135
A107: 6 | B107: 1930-3005 (3) | C107: 8.428 | D107: =[6]Прайс!C9 -> 1851.0592 | E107: 13.66 | F107: =[6]Прайс!D9 -> 2534.7876 | G107: 15.145 | H107: =[6]Прайс!E9 -> 2758.4001 | I107: 21.767 | J107: =[6]Прайс!F9 -> 3758.5805 | K107: 23.705 | L107: =[6]Прайс!G9 -> 4050.475 | M107: 34.281 | N107: =[6]Прайс!H9 -> 5646.1501
A108: 7 | B108: 2030-3005 (4) | C108: 9.143 | D108: =[6]Прайс!C10 -> 1997.408 | E108: 14.833 | F108: =[6]Прайс!D10 -> 2742.5891 | G108: 16.445 | H108: =[6]Прайс!E10 -> 2985.4068 | I108: 23.658 | J108: =[6]Прайс!F10 -> 4075.5185 | K108: 25.765 | L108: =[6]Прайс!G10 -> 4392.7791 | M108: 37.295 | N108: =[6]Прайс!H10 -> 6133.0195
A109: 8 | B109: 2230-3005 (4) | C109: 9.896 | D109: =[6]Прайс!C11 -> 2167.8009 | E109: 16.048 | F109: =[6]Прайс!D11 -> 2972.765 | G109: 17.793 | H109: =[6]Прайс!E11 -> 3235.4776 | I109: 25.587 | J109: =[6]Прайс!F11 -> 4413.127 | K109: 27.865 | L109: =[6]Прайс!G11 -> 4756.251 | M109: 40.32 | N109: =[6]Прайс!H11 -> 6635.756
A110: 9 | B110: 2430-3005 (4) | C110: 10.649 | D110: =[6]Прайс!C12 -> 2338.1937 | E110: 17.264 | F110: =[6]Прайс!D12 -> 3202.9408 | G110: 19.14 | H110: =[6]Прайс!E12 -> 3485.5484 | I110: 27.516 | J110: =[6]Прайс!F12 -> 4750.7355 | K110: 29.966 | L110: =[6]Прайс!G12 -> 5119.723 | M110: 43.345 | N110: =[6]Прайс!H12 -> 7138.4925
A111: 10 | B111: 2630-3005 (4) | C111: 11.402 | D111: =[6]Прайс!C13 -> 2508.5866 | E111: 18.479 | F111: =[6]Прайс!D13 -> 3433.1167 | G111: 20.488 | H111: =[6]Прайс!E13 -> 3735.6192 | I111: 29.444 | J111: =[6]Прайс!F13 -> 5088.3441 | K111: 32.066 | L111: =[6]Прайс!G13 -> 5483.1949 | M111: 46.37 | N111: =[6]Прайс!H13 -> 7641.2291
A112: 11 | B112: 2830-3005 (4) | C112: 12.155 | D112: =[6]Прайс!C14 -> 2678.9795 | E112: 19.694 | F112: =[6]Прайс!D14 -> 3663.2925 | G112: 21.835 | H112: =[6]Прайс!E14 -> 3985.69 | I112: 31.373 | J112: =[6]Прайс!F14 -> 5425.9526 | K112: 34.167 | L112: =[6]Прайс!G14 -> 5846.6669 | M112: 49.395 | N112: =[6]Прайс!H14 -> 8143.9656
A113: 12 | B113: 3030-3005 (4) | C113: 12.908 | D113: =[6]Прайс!C15 -> 2849.3723 | E113: 20.91 | F113: =[6]Прайс!D15 -> 3893.4684 | G113: 23.182 | H113: =[6]Прайс!E15 -> 4235.7608 | I113: 33.302 | J113: =[6]Прайс!F15 -> 5763.5612 | K113: 36.267 | L113: =[6]Прайс!G15 -> 6210.1389 | M113: 52.42 | N113: =[6]Прайс!H15 -> 8646.7022
A114: 13 | B114: 3330-3005 (5) | C114: 14.377 | D114: =[6]Прайс!C16 -> 3166.114 | E114: 23.298 | F114: =[6]Прайс!D16 -> 4331.4458 | G114: 25.83 | H114: =[6]Прайс!E16 -> 4712.8383 | I114: 37.122 | J114: =[6]Прайс!F16 -> 6418.1076 | K114: 40.427 | L114: =[6]Прайс!G16 -> 6915.9149 | M114: 58.459 | N114: =[6]Прайс!H16 -> 9636.3081
A116: ***Примечание. При расчете стоимости панелей следует учитывать следующие параметры:
A117: 1) | B117: Размер ячейки сетки | E117: 3) | F117: Высота огражденния
A118: 2) | B118: Диаметр прутка сетки | E118: 4) | F118: Ширина одной панели
